BEGIN:VCALENDAR
VERSION:2.0
PRODID:-//Squarespace Inc/Squarespace 6//v6//EN
BEGIN:VEVENT
UID:5f86560f37bce9017e6182f1@squarespace.com
DTSTAMP:20201014T015210Z
DTSTART:20201203T140000Z
DTEND:20201206T210000Z
SUMMARY:Christmas Party
GEO:-37.653891;145.516479
LOCATION:217A Maroondah Highway\, Healesville VIC 3777
END:VEVENT
END:VCALENDAR
