BEGIN:VCALENDAR
VERSION:2.0
PRODID:-//Squarespace Inc/Squarespace 6//v6//EN
BEGIN:VEVENT
UID:5f865c2b29b7f63df7b99020@squarespace.com
DTSTAMP:20201015T013321Z
DTSTART:20201212T183000Z
DTEND:20201212T200000Z
SUMMARY:Christmas Wreath Workshop - 12th Dec 1.30pm
GEO:-37.653891;145.516479
LOCATION:217A Maroondah Highway\, Healesville\, VIC\, 3777\, Australia
END:VEVENT
END:VCALENDAR
