BEGIN:VCALENDAR
VERSION:2.0
PRODID:-//Squarespace Inc/Squarespace 6//v6//EN
BEGIN:VEVENT
UID:5f87a6ec9c19152731ff56b6@squarespace.com
DTSTAMP:20201015T013443Z
DTSTART:20201219T150000Z
DTEND:20201219T170000Z
SUMMARY:Christmas Wreath Workshop - 19th Dec 10am
GEO:-37.653891;145.516479
LOCATION:217A Maroondah Highway\, Healesville\, VIC\, 3777\, Australia
END:VEVENT
END:VCALENDAR
