BEGIN:VCALENDAR
VERSION:2.0
PRODID:-//Squarespace Inc/Squarespace 6//v6//EN
BEGIN:VEVENT
UID:5f87a74659a89e37c3d82db4@squarespace.com
DTSTAMP:20201015T013558Z
DTSTART:20201219T183000Z
DTEND:20201219T200000Z
SUMMARY:Christmas Wreath Workshop - 19th Dec 1.30pm
GEO:-37.653891;145.516479
LOCATION:217A Maroondah Highway\, Healesville\, VIC\, 3777\, Australia
END:VEVENT
END:VCALENDAR
