BEGIN:VCALENDAR
VERSION:2.0
PRODID:-//Squarespace Inc/Squarespace 6//v6//EN
BEGIN:VEVENT
UID:5f87a66be66fdb4971d71156@squarespace.com
DTSTAMP:20201015T013306Z
DTSTART:20201212T150000Z
DTEND:20201212T170000Z
SUMMARY:Christmas Wreath Workshop - 12th Dec 10am
GEO:-37.653891;145.516479
LOCATION:217A Maroondah Highway\, Healesville\, VIC\, 3777\, Australia
END:VEVENT
END:VCALENDAR
